BEGIN:VCALENDAR
VERSION:2.0
PRODID:-//Lustre Quartet - ECPv6.15.1.1//NONSGML v1.0//EN
CALSCALE:GREGORIAN
METHOD:PUBLISH
X-ORIGINAL-URL:https://www.lustrequartet.com
X-WR-CALDESC:Events for Lustre Quartet
REFRESH-INTERVAL;VALUE=DURATION:PT1H
X-Robots-Tag:noindex
X-PUBLISHED-TTL:PT1H
BEGIN:VTIMEZONE
TZID:America/New_York
BEGIN:DAYLIGHT
TZOFFSETFROM:-0500
TZOFFSETTO:-0400
TZNAME:EDT
DTSTART:20170312T070000
END:DAYLIGHT
BEGIN:STANDARD
TZOFFSETFROM:-0400
TZOFFSETTO:-0500
TZNAME:EST
DTSTART:20171105T060000
END:STANDARD
BEGIN:DAYLIGHT
TZOFFSETFROM:-0500
TZOFFSETTO:-0400
TZNAME:EDT
DTSTART:20180311T070000
END:DAYLIGHT
BEGIN:STANDARD
TZOFFSETFROM:-0400
TZOFFSETTO:-0500
TZNAME:EST
DTSTART:20181104T060000
END:STANDARD
END:VTIMEZONE
BEGIN:VEVENT
DTSTART;TZID=America/New_York:20180512T193000
DTEND;TZID=America/New_York:20180512T220000
DTSTAMP:20260423T141456
CREATED:20180322T125856Z
LAST-MODIFIED:20180322T143257Z
UID:2079-1526153400-1526162400@www.lustrequartet.com
SUMMARY:Chorus of the Chesapeake Chapter Show
DESCRIPTION:Come out to hear us sing on Dundalk’s Chorus of the Chesapeake (BHS) Spring Show!  In addition to our performance\, the show will present a lineup of “Fabulous Foursomes”\, featuring music from the Beatles\, along with 2018 Mid-Atlantic District Quartet Champions\, Gimme Four. \n 
URL:https://www.lustrequartet.com/event/chorus-of-the-chesapeake-chapter-show/
LOCATION:Kraushaar Auditorium\, Goucher College\, 1021 Dulaney Valley Rd\, Towson\, MD\, 21204\, United States
CATEGORIES:Public Performance
ATTACH;FMTTYPE=image/jpeg:https://www.lustrequartet.com/wp-content/uploads/2018/03/C-of-C-Spring-Show-Handbill-1-e1521725347957.jpg
END:VEVENT
BEGIN:VEVENT
DTSTART;TZID=America/New_York:20180505T180000
DTEND;TZID=America/New_York:20180505T220000
DTSTAMP:20260423T141456
CREATED:20180322T144301Z
LAST-MODIFIED:20180322T144301Z
UID:2099-1525543200-1525557600@www.lustrequartet.com
SUMMARY:Spring Fling - Backyard Barbershop Bash
DESCRIPTION:Join us for a fun\, casual backyard picnic and concert of local quartets.   Lustre will make a cameo appearance\, but the main event is the opportunity to support other quartet singers from around the Baltimore area!
URL:https://www.lustrequartet.com/event/spring-fling-backyard-barbershop-bash/
LOCATION:Lustre’s Back Yard\, 503 N Chapel Gate Ln\, Baltimore\, MD\, 21229\, United States
CATEGORIES:Public Performance
ATTACH;FMTTYPE=image/jpeg:https://www.lustrequartet.com/wp-content/uploads/2018/03/SpringFlingFBEventPhoto-e1521729695672.jpg
END:VEVENT
BEGIN:VEVENT
DTSTART;TZID=America/New_York:20180408T160000
DTEND;TZID=America/New_York:20180408T180000
DTSTAMP:20260423T141456
CREATED:20180322T134928Z
LAST-MODIFIED:20180322T143404Z
UID:2095-1523203200-1523210400@www.lustrequartet.com
SUMMARY:Capital Accord Chorus Spring Concert
DESCRIPTION:Join us as we perform on the Capital Accord Chorus Spring Concert.  This is an annual benefit concert\, and this year’s funds generated will support the Blake HS PTSA After-Prom program committee.   In addition hearing Lustre\, you’ll get to her Kate perform with Capital Accord Chorus.  And this will be Jenny’s debut performance directing the Arundelair Chorus\, who will perform as a guest chorus on the show.  Other quartets on the show include Duality\, Mix It Up\, Now or Never\, and PEARL.  As a special treat\, you’ll also hear Blake High School student and faculty instrumental and vocal performers.  Lots of variety on this show\, and lots of fun!  Come on out!
URL:https://www.lustrequartet.com/event/capital-accord-chorus-spring-concert/
LOCATION:Blake High School\, 300 Norwood Rd\, Silver Spring\, MD\, 20905\, United States
CATEGORIES:Public Performance
ATTACH;FMTTYPE=image/jpeg:https://www.lustrequartet.com/wp-content/uploads/2018/03/CAClogo.jpg
END:VEVENT
BEGIN:VEVENT
DTSTART;TZID=America/New_York:20180407T150000
DTEND;TZID=America/New_York:20180407T170000
DTSTAMP:20260423T141456
CREATED:20180322T133844Z
LAST-MODIFIED:20180322T143529Z
UID:2091-1523113200-1523120400@www.lustrequartet.com
SUMMARY:Full Steam Ahead - a Benefit Show and Contest Send Off
DESCRIPTION:We’ll be performing with the Star Spangled Chorus – Dundalk Chapter of Sweet Adelines International on their annual spring benefit and competition send-off.  In addition the chorus and us\, you’ll also get a chance to listen to Sweet As Sugar\, Rampage\, Knock Out\, Duality\, Neon Lights and Famous Janes quartets.  What a lineup! \n  \n 
URL:https://www.lustrequartet.com/event/full-steam-ahead-a-benefit-show-and-contest-send-off/
LOCATION:North Point Government Center\, Wise Ave & Merritt Blvd.\, Dundalk\, MD\, United States
CATEGORIES:Public Performance
ATTACH;FMTTYPE=image/jpeg:https://www.lustrequartet.com/wp-content/uploads/2018/03/dundalk.jpg
END:VEVENT
BEGIN:VEVENT
DTSTART;TZID=America/New_York:20180404T200000
DTEND;TZID=America/New_York:20180404T220000
DTSTAMP:20260423T141456
CREATED:20180322T132550Z
LAST-MODIFIED:20180322T143159Z
UID:2087-1522872000-1522879200@www.lustrequartet.com
SUMMARY:HCMC Friends and Family Show
DESCRIPTION:Harbor City Music Company is headed to Regional Competition\, and is putting on an open dress rehearsal for Friends and Family.   Lustre will perform as members of HCMC\, and will also perform our mic testing performance in preparation for Regional competition later in April.   Other quartets appearing on this show include:   Famous Janes (2017 Region 19 Champions and 2018 SAI 12th Place Quartet)\, Neon Lights (2017 Region 19 Second Place Quartet and 2018 SAI 19th Place Quartet)\, Mix It Up\, Pivot\, Duality\, Pinnacle\, and Cheers! \n 
URL:https://www.lustrequartet.com/event/hcmc-friends-and-family-show/
LOCATION:Severna Park Elks Lodge\, 160 Truck House Rd\, Severna Park\, MD\, United States
CATEGORIES:Public Performance
ATTACH;FMTTYPE=image/jpeg:https://www.lustrequartet.com/wp-content/uploads/2018/03/hcmc.jpg
END:VEVENT
BEGIN:VEVENT
DTSTART;TZID=America/New_York:20180224T193000
DTEND;TZID=America/New_York:20180224T220000
DTSTAMP:20260423T141456
CREATED:20171031T153721Z
LAST-MODIFIED:20171031T154653Z
UID:1948-1519500600-1519509600@www.lustrequartet.com
SUMMARY:Mid-Atlantic Harmony Sweepstakes A Cappella Festival
DESCRIPTION:We can’t wait to be the hosts of the 33rd Annual Mid-Atlantic Harmony Sweepstakes A Cappella Festival!  This event is always a fantastic evening of excellent vocal harmony and dynamic performances!  Each year\, the Harmony Sweepstakes brings together vocal performers representing all styles of a cappella music\, including contemporary\, barbershop\, doo-wop\, folk\, jazz\, gospel and more. It truly is a celebration of the human voice! \nJoin us for a great show on this fun night out!
URL:https://www.lustrequartet.com/event/hosting-the-mid-atlantic-harmony-sweepstakes-a-cappella-festival/
LOCATION:Birchmere\, 3701 Mt. Vernon Ave\, Alexandria\, VA\, 22305\, United States
CATEGORIES:Public Performance
ATTACH;FMTTYPE=image/jpeg:https://www.lustrequartet.com/wp-content/uploads/2017/10/Sweeps.jpg
END:VEVENT
BEGIN:VEVENT
DTSTART;TZID=America/New_York:20180209T190000
DTEND;TZID=America/New_York:20180210T170000
DTSTAMP:20260423T141456
CREATED:20180109T153714Z
LAST-MODIFIED:20180109T154313Z
UID:2063-1518202800-1518282000@www.lustrequartet.com
SUMMARY:SingStrong NY International A Cappella Festival
DESCRIPTION:We are so excited to be part of the SingStrong NY International A Cappella Festival! This event brings vocal musicians of all ages\, all genres\, from all over the world to perform\, to learn\, and to advance the art of a cappella singing. \nWe’ll be participating as headliner performers on the Saturday night 9:30pm show\, and also on the Sunday afternoon 2:00pm show. We’ll also be serving as teachers and/or coaches on Saturday and Sunday. \nWe’re thrilled to be part of this great event! \nWon’t you join us?
URL:https://www.lustrequartet.com/event/singstrong-ny-international-a-cappella-festival/
LOCATION:Adelphi University Performing Arts Center (AUPAC)\, 1 South Ave\, Garden City\, NY\, 11530\, United States
CATEGORIES:Public Performance
ATTACH;FMTTYPE=image/jpeg:https://www.lustrequartet.com/wp-content/uploads/2018/01/image001-copy.jpg
END:VEVENT
BEGIN:VEVENT
DTSTART;TZID=America/New_York:20180112T190000
DTEND;TZID=America/New_York:20180114T120000
DTSTAMP:20260423T141456
CREATED:20171031T031316Z
LAST-MODIFIED:20171031T031316Z
UID:1915-1515783600-1515931200@www.lustrequartet.com
SUMMARY:SAI Region 19 Singer's School
DESCRIPTION:Singer’s School is SAI Region 19’s premiere educational weekend\, and this year is going to be a blockbuster!   The international faculty is Jean Barford.  Jean’s credentials span the entirety of the Sweet Adelines International organization\, and as a vocal skills teacher she is widely regarded as the cream of the crop! \nDuring this fabulous weekend\, Lustre will be doing a Q&A session on Friday night to talk to our Regional family about our experiences in Las Vegas in October 2017\, and answer any questions folks might have about that.   On Saturday\, we’ll be helping with the Quartet Track\, teaching some of the classes there.   Saturday night we’ll join several  other awesome performers and sing a bit on the Saturday night show.  If you can’t come the whole weekend\, you can still come to the show for a small entrance fee of $15. \nWe can’t WAIT to see all our Regional family – that’s what they are! – and give hugs and high fives and get lots of pictures on Facebook and spread the harmony joy. \nPLEASE join us in the fun! \nRegistration information coming soon to the Region 19 website.
URL:https://www.lustrequartet.com/event/sai-region-19-singers-school/
LOCATION:Sheraton Baltimore North\, 903 Dulaney Valley Road\, Baltimore\, MD\, United States
CATEGORIES:Public Performance,SAI Event
ATTACH;FMTTYPE=image/jpeg:https://www.lustrequartet.com/wp-content/uploads/2017/10/SSHeader.jpg
END:VEVENT
BEGIN:VEVENT
DTSTART;TZID=America/New_York:20171216T120000
DTEND;TZID=America/New_York:20171216T130000
DTSTAMP:20260423T141456
CREATED:20171103T194416Z
LAST-MODIFIED:20171103T194416Z
UID:1991-1513425600-1513429200@www.lustrequartet.com
SUMMARY:Baltimore's Christmas Village Main Stage
DESCRIPTION:Come out and visit Baltimore’s Christmas Village – an authentic German-style Christmas market in the heart of the Inner Harbor. Experience European holiday spirit\, shop unique vendors selling authentic food\, ornaments\, and arts & crafts for your holiday gift giving\, and enjoy Lustre’s sounds of the holidays from the main stage.  We’ll see you there!
URL:https://www.lustrequartet.com/event/baltimores-christmas-village-main-stage/
LOCATION:Inner Harbor\, 501 Light Street\, Baltimore\, MD\, 21230\, United States
CATEGORIES:Public Performance
ATTACH;FMTTYPE=image/jpeg:https://www.lustrequartet.com/wp-content/uploads/2017/11/Christmas-Village.jpg
END:VEVENT
BEGIN:VEVENT
DTSTART;TZID=America/New_York:20171216T083000
DTEND;TZID=America/New_York:20171216T110000
DTSTAMP:20260423T141456
CREATED:20171031T022652Z
LAST-MODIFIED:20171031T022916Z
UID:1903-1513413000-1513422000@www.lustrequartet.com
SUMMARY:Singing at the Baltimore Ugly Sweater Run
DESCRIPTION:We’re super-excited to be singing holiday music at the start and finish line of the Baltimore Ugly Sweater Run. This race is part of a national running series presented by Kahlúa benefitting One Warm Coat. We’re not quite sure yet what our ugly sweaters will look like\, but we’re really happy to be part of the entertainment keeping the runners and organizers in high spirits and a fun holiday mood. \nCheck out the event here if you’re intersted in running: https://www.facebook.com/events/199061777301242/
URL:https://www.lustrequartet.com/event/singing-at-the-baltimore-ugly-sweater-run/
LOCATION:Rash Field\, 201 Key Hwy\, Baltimore\, MD\, 21230\, United States
CATEGORIES:Public Performance
ATTACH;FMTTYPE=image/jpeg:https://www.lustrequartet.com/wp-content/uploads/2017/10/ugly.jpg
END:VEVENT
BEGIN:VEVENT
DTSTART;TZID=America/New_York:20171202T190000
DTEND;TZID=America/New_York:20171202T210000
DTSTAMP:20260423T141456
CREATED:20171028T000133Z
LAST-MODIFIED:20171129T193431Z
UID:1830-1512241200-1512248400@www.lustrequartet.com
SUMMARY:Harmony On The Sound Holiday Show
DESCRIPTION:Get ready to ring in the holiday season with some ringy Barbershop music!   We’re excited to appear on the Harmony On The Sound Holiday show.  Tickets are $25 for adults\, and $10 for children age 12 and under. Cabaret style\, BYOB and bring your dinner. Sounds like fun!!! Won’t you join us?
URL:https://www.lustrequartet.com/event/harmony-on-the-sound-holiday-show/
LOCATION:St. Nicholas Antiochian Orthodox Churgh\, 5458 Park Ave.\, Bridgeport\, CT\, 06611\, United States
CATEGORIES:Public Performance
ATTACH;FMTTYPE=image/jpeg:https://www.lustrequartet.com/wp-content/uploads/2017/10/hots2.jpg
END:VEVENT
BEGIN:VEVENT
DTSTART;TZID=America/New_York:20171118T150000
DTEND;TZID=America/New_York:20171118T170000
DTSTAMP:20260423T141456
CREATED:20171028T000454Z
LAST-MODIFIED:20171028T000454Z
UID:1834-1511017200-1511024400@www.lustrequartet.com
SUMMARY:Hickory Tree Chorus Annual Show
DESCRIPTION:We’re excited to perform on the Hickory Tree Chorus annual show\, “Barbershop Breakout… Can They Escape the Room?”   Also appearing is Drive! Quartet\, Take Note! Quartet\, and the student singers from West Morris Mendham High School.    The matinee show is a perfect afternoon’s entertainment\, why not book-end your outing with a great meal at one of the local restauants?
URL:https://www.lustrequartet.com/event/hickory-tree-chorus-annual-show/
LOCATION:West Morris Mendham High School\, 65 E Main Street\, Mendham\, NJ\, 07945\, United States
CATEGORIES:Public Performance
ATTACH;FMTTYPE=image/jpeg:https://www.lustrequartet.com/wp-content/uploads/2017/10/HickoryTreeShow.jpg
END:VEVENT
END:VCALENDAR